BEGIN:VCALENDAR
VERSION:2.0
PRODID:SchoolNow
CALSCALE:GREGORIAN
BEGIN:VEVENT
UID:132e404e-9281-11ed-aca2-0a8d1b77327b
DTSTAMP:20230112T135738Z
SUMMARY:Myers Spirit Week
URL;VALUE=URI:https://www.albanyschools.org/schools/myers/calendar/3664798/
 myers-spirit-week
DTSTART;VALUE=DATE:20230213
DTEND;VALUE=DATE:20230218
END:VEVENT
END:VCALENDAR
