BEGIN:VCALENDAR
VERSION:2.0
PRODID:SchoolNow
CALSCALE:GREGORIAN
BEGIN:VEVENT
UID:a35cc088-a711-11ed-9e7e-0ae7c4cb349d
DTSTAMP:20230207T180251Z
SUMMARY:PTSA Meeting
URL;VALUE=URI:https://www.albanyschools.org/schools/myers/calendar/3724500/
 ptsa-meeting
DTSTART:20230208T230000Z
DTEND:20230209T000000Z
END:VEVENT
END:VCALENDAR
