BEGIN:VCALENDAR
VERSION:2.0
PRODID:SchoolNow
CALSCALE:GREGORIAN
BEGIN:VEVENT
UID:c4bb380e-a711-11ed-8f6f-0ae7c4cb349d
DTSTAMP:20230207T180347Z
SUMMARY:PTSA Meeting
URL;VALUE=URI:https://www.albanyschools.org/schools/myers/calendar/3724501/
 ptsa-meeting
DTSTART:20230308T230000Z
DTEND:20230309T000000Z
END:VEVENT
END:VCALENDAR
