BEGIN:VCALENDAR
VERSION:2.0
PRODID:SchoolNow
CALSCALE:GREGORIAN
BEGIN:VEVENT
UID:91c80140-a971-11ed-a9fb-0ad51d14d205
DTSTAMP:20230328T195718Z
SUMMARY:PBIS Casino Night
URL;VALUE=URI:https://www.albanyschools.org/schools/myers/calendar/3734131/
 pbis-casino-night
DTSTART:20230406T210000Z
DTEND:20230406T230000Z
END:VEVENT
END:VCALENDAR
