BEGIN:VCALENDAR
VERSION:2.0
PRODID:SchoolNow
CALSCALE:GREGORIAN
BEGIN:VEVENT
UID:bb4d8488-abae-11ed-8843-0295a83c8d9d
DTSTAMP:20230213T145727Z
SUMMARY:Honor Roll Ceremony
URL;VALUE=URI:https://www.albanyschools.org/schools/myers/calendar/3741647/
 honor-roll-ceremony
DTSTART:20230217T133000Z
DTEND:20230217T150000Z
END:VEVENT
END:VCALENDAR
