BEGIN:VCALENDAR
VERSION:2.0
PRODID:SchoolNow
CALSCALE:GREGORIAN
BEGIN:VEVENT
UID:bc1be15e-c97a-11ed-9389-0aa64c7a0155
DTSTAMP:20230417T145455Z
SUMMARY:Myers Madness (PBIS event)
URL;VALUE=URI:https://www.albanyschools.org/schools/myers/calendar/3911280/
 myers-madness-pbis-event
DTSTART:20230511T210000Z
DTEND:20230511T230000Z
END:VEVENT
END:VCALENDAR
