BEGIN:VCALENDAR
VERSION:2.0
PRODID:SchoolNow
CALSCALE:GREGORIAN
BEGIN:VEVENT
UID:d4bf554c-d7a8-11ed-b5c3-0a5758daea7d
DTSTAMP:20230410T140604Z
SUMMARY:Spring concert and art show
URL;VALUE=URI:https://www.albanyschools.org/schools/myers/calendar/4019717/
 spring-concert-and-art-show
DTSTART:20230523T223000Z
DTEND:20230523T233000Z
END:VEVENT
END:VCALENDAR
