BEGIN:VCALENDAR
VERSION:2.0
PRODID:SchoolNow
CALSCALE:GREGORIAN
BEGIN:VEVENT
UID:f6150750-dd2f-11ed-85d4-0e90bb8fcfaf
DTSTAMP:20230417T145558Z
SUMMARY:Science Fair
URL;VALUE=URI:https://www.albanyschools.org/schools/myers/calendar/4069659/
 science-fair
DTSTART:20230510T210000Z
DTEND:20230510T223000Z
END:VEVENT
END:VCALENDAR
