BEGIN:VCALENDAR
VERSION:2.0
PRODID:SchoolNow
CALSCALE:GREGORIAN
BEGIN:VEVENT
UID:9f97e856-dd3a-11ed-bf77-029dc992abdd
DTSTAMP:20230522T140101Z
SUMMARY:PTSA meeting (virtual only)
URL;VALUE=URI:https://www.albanyschools.org/schools/myers/calendar/4070175/
 ptsa-meeting
DTSTART:20230524T220000Z
DTEND:20230524T230000Z
END:VEVENT
END:VCALENDAR
