BEGIN:VCALENDAR
VERSION:2.0
PRODID:SchoolNow
CALSCALE:GREGORIAN
BEGIN:VEVENT
UID:173cfd06-dd40-11ed-bcb2-0ef50da35fb7
DTSTAMP:20230417T170449Z
SUMMARY:PTSA Meeting (virtual only)
URL;VALUE=URI:https://www.albanyschools.org/schools/myers/calendar/4070180/
 ptsa-meeting
DTSTART:20230419T220000Z
DTEND:20230419T230000Z
END:VEVENT
END:VCALENDAR
