BEGIN:VCALENDAR
VERSION:2.0
PRODID:SchoolNow
CALSCALE:GREGORIAN
BEGIN:VEVENT
UID:b69cb3f8-061e-11ee-a5c6-0e8b39aa6905
DTSTAMP:20230608T170547Z
SUMMARY:Grade 8 Moving Up Ceremony
URL;VALUE=URI:https://www.albanyschools.org/schools/myers/calendar/4371732/
 grade-8-moving-up-ceremony
DTSTART:20230623T130000Z
DTEND:20230623T140000Z
END:VEVENT
END:VCALENDAR
