BEGIN:VCALENDAR
VERSION:2.0
PRODID:SchoolNow
CALSCALE:GREGORIAN
BEGIN:VEVENT
UID:9145d7a8-15e9-11ee-8c73-0e399338071b
DTSTAMP:20230726T142936Z
SUMMARY:Grade 6 Transition Camp
URL;VALUE=URI:https://www.albanyschools.org/schools/myers/calendar/4449693/
 grade-6-transition-camp
DTSTART:20230821T123000Z
DTEND:20230825T153000Z
END:VEVENT
END:VCALENDAR
