BEGIN:VCALENDAR
VERSION:2.0
PRODID:SchoolNow
CALSCALE:GREGORIAN
BEGIN:VEVENT
UID:85d8276a-2a5a-11ee-8327-0a58a9feac02
DTSTAMP:20230724T194437Z
SUMMARY:Winter Concert
URL;VALUE=URI:https://www.albanyschools.org/schools/myers/calendar/4519059/
 winter-concert
DTSTART:20231212T233000Z
DTEND:20231213T003000Z
END:VEVENT
END:VCALENDAR
