BEGIN:VCALENDAR
VERSION:2.0
PRODID:SchoolNow
CALSCALE:GREGORIAN
BEGIN:VEVENT
UID:9c09ab3a-2a5a-11ee-868a-02041d902df5
DTSTAMP:20230724T194514Z
SUMMARY:Spring Concert
URL;VALUE=URI:https://www.albanyschools.org/schools/myers/calendar/4519060/
 spring-concert
DTSTART:20240522T223000Z
DTEND:20240522T233000Z
END:VEVENT
END:VCALENDAR
