BEGIN:VCALENDAR
VERSION:2.0
PRODID:SchoolNow
CALSCALE:GREGORIAN
BEGIN:VEVENT
UID:6ee54490-2bc0-11ee-99e6-0a58a9feac02
DTSTAMP:20230821T154400Z
SUMMARY:Parent Information Night
URL;VALUE=URI:https://www.albanyschools.org/schools/myers/calendar/4522973/
 family-orientation
DTSTART:20230822T213000Z
DTEND:20230822T223000Z
END:VEVENT
END:VCALENDAR
