BEGIN:VCALENDAR
VERSION:2.0
PRODID:SchoolNow
CALSCALE:GREGORIAN
BEGIN:VEVENT
UID:b809073c-4039-11ee-b34f-0229a6131bcf
DTSTAMP:20230821T154513Z
SUMMARY:Open House
URL;VALUE=URI:https://www.albanyschools.org/schools/myers/calendar/4604433/
 open-house
DTSTART:20230920T210000Z
DTEND:20230920T223000Z
END:VEVENT
END:VCALENDAR
