BEGIN:VCALENDAR
VERSION:2.0
PRODID:SchoolNow
CALSCALE:GREGORIAN
BEGIN:VEVENT
UID:cc0145b0-4039-11ee-9559-0a472bfcd05f
DTSTAMP:20230821T154547Z
SUMMARY:Back to school BBQ for students
URL;VALUE=URI:https://www.albanyschools.org/schools/myers/calendar/4604434/
 back-to-school-bbq-for-students
DTSTART:20230922T154500Z
DTEND:20230922T164500Z
END:VEVENT
END:VCALENDAR
