BEGIN:VCALENDAR
VERSION:2.0
PRODID:SchoolNow
CALSCALE:GREGORIAN
BEGIN:VEVENT
UID:ddda31d4-4039-11ee-b97d-0a652199f1fd
DTSTAMP:20230821T154617Z
SUMMARY:PAL afterschool program begins
URL;VALUE=URI:https://www.albanyschools.org/schools/myers/calendar/4604435/
 pal-afterschool-program-begins
DTSTART:20230926T154500Z
DTEND:20230926T164500Z
END:VEVENT
END:VCALENDAR
