BEGIN:VCALENDAR
VERSION:2.0
PRODID:SchoolNow
CALSCALE:GREGORIAN
BEGIN:VEVENT
UID:009c6700-403a-11ee-9548-0a58a9feac02
DTSTAMP:20230821T154715Z
SUMMARY:Grade 6 field trip to Thacher Park
URL;VALUE=URI:https://www.albanyschools.org/schools/myers/calendar/4604444/
 grade-6-field-trip-to-thacher-park
DTSTART:20231010T154600Z
DTEND:20231010T164600Z
END:VEVENT
END:VCALENDAR
