BEGIN:VCALENDAR
VERSION:2.0
PRODID:SchoolNow
CALSCALE:GREGORIAN
BEGIN:VEVENT
UID:0fd0e624-403a-11ee-b733-0a58a9feac02
DTSTAMP:20230821T154741Z
SUMMARY:Grade 6 field trip to Thacher Park
URL;VALUE=URI:https://www.albanyschools.org/schools/myers/calendar/4604445/
 grade-6-field-trip-to-thacher-park
DTSTART:20231011T154700Z
DTEND:20231011T164700Z
END:VEVENT
END:VCALENDAR
