BEGIN:VCALENDAR
VERSION:2.0
PRODID:SchoolNow
CALSCALE:GREGORIAN
BEGIN:VEVENT
UID:2d743358-403e-11ee-9f31-0a58a9feac02
DTSTAMP:20230821T161708Z
SUMMARY:Early dismissal for middle schools\, staff PD day
URL;VALUE=URI:https://www.albanyschools.org/schools/myers/calendar/4604492/
 early-dismissal-for-middle-schools-staff-pd-day
DTSTART:20231018T161600Z
DTEND:20231018T171600Z
END:VEVENT
END:VCALENDAR
