BEGIN:VCALENDAR
VERSION:2.0
PRODID:SchoolNow
CALSCALE:GREGORIAN
BEGIN:VEVENT
UID:473e415c-403e-11ee-913e-0ee8cc2816c9
DTSTAMP:20230821T161752Z
SUMMARY:Fall Picture Day
URL;VALUE=URI:https://www.albanyschools.org/schools/myers/calendar/4604495/
 fall-picture-day
DTSTART:20231025T161700Z
DTEND:20231026T171700Z
END:VEVENT
END:VCALENDAR
