BEGIN:VCALENDAR
VERSION:2.0
PRODID:SchoolNow
CALSCALE:GREGORIAN
BEGIN:VEVENT
UID:60a9698c-403e-11ee-8f21-0a58a9feac02
DTSTAMP:20230821T161834Z
SUMMARY:Spirit Week
URL;VALUE=URI:https://www.albanyschools.org/schools/myers/calendar/4604497/
 spirit-week
DTSTART:20231023T161800Z
DTEND:20231026T171800Z
END:VEVENT
END:VCALENDAR
