BEGIN:VCALENDAR
VERSION:2.0
PRODID:SchoolNow
CALSCALE:GREGORIAN
BEGIN:VEVENT
UID:968ea9b8-403e-11ee-b977-0a58a9feac02
DTSTAMP:20231023T130621Z
SUMMARY:Parent/Teacher conferences and Teen Night
URL;VALUE=URI:https://www.albanyschools.org/schools/myers/calendar/4604498/
 parent-teacher-conferences-and-teen-night
DTSTART:20231026T161900Z
DTEND:20231026T171900Z
END:VEVENT
END:VCALENDAR
