BEGIN:VCALENDAR
VERSION:2.0
PRODID:SchoolNow
CALSCALE:GREGORIAN
BEGIN:VEVENT
UID:c48c2070-403e-11ee-b25f-0a58a9feac02
DTSTAMP:20230821T162122Z
SUMMARY:Fall picture makeups
URL;VALUE=URI:https://www.albanyschools.org/schools/myers/calendar/4604499/
 fall-picture-makeups
DTSTART:20231121T172000Z
DTEND:20231121T182000Z
END:VEVENT
END:VCALENDAR
