BEGIN:VCALENDAR
VERSION:2.0
PRODID:SchoolNow
CALSCALE:GREGORIAN
BEGIN:VEVENT
UID:3b72d624-50a8-11ee-a465-0a58a9feac02
DTSTAMP:20230911T133637Z
SUMMARY:PTSA's Trunk-or-Treat
URL;VALUE=URI:https://www.albanyschools.org/schools/myers/calendar/4714997/
 ptsas-trunk-or-treat
DTSTART:20231030T200000Z
DTEND:20231030T223000Z
END:VEVENT
END:VCALENDAR
