BEGIN:VCALENDAR
VERSION:2.0
PRODID:SchoolNow
CALSCALE:GREGORIAN
BEGIN:VEVENT
UID:5dad9d34-50ab-11ee-993a-0a58a9feac02
DTSTAMP:20230911T135903Z
SUMMARY:Honor Roll Ceremony
URL;VALUE=URI:https://www.albanyschools.org/schools/myers/calendar/4715000/
 honor-roll-ceremony
DTSTART:20231201T133000Z
DTEND:20231201T143000Z
END:VEVENT
END:VCALENDAR
