BEGIN:VCALENDAR
VERSION:2.0
PRODID:SchoolNow
CALSCALE:GREGORIAN
BEGIN:VEVENT
UID:77d60a02-50ab-11ee-ada2-0a58a9feac02
DTSTAMP:20230911T135947Z
SUMMARY:Honor Roll Ceremony
URL;VALUE=URI:https://www.albanyschools.org/schools/myers/calendar/4715001/
 honor-roll-ceremony-clone
DTSTART:20240216T133000Z
DTEND:20240216T143000Z
END:VEVENT
END:VCALENDAR
