BEGIN:VCALENDAR
VERSION:2.0
PRODID:SchoolNow
CALSCALE:GREGORIAN
BEGIN:VEVENT
UID:a093f35a-50ab-11ee-8bbc-0a58a9feac02
DTSTAMP:20230911T140055Z
SUMMARY:Grade 8 Moving Up Ceremony
URL;VALUE=URI:https://www.albanyschools.org/schools/myers/calendar/4715003/
 grade-8-moving-up-ceremony
DTSTART:20240626T130000Z
DTEND:20240626T140000Z
END:VEVENT
END:VCALENDAR
