BEGIN:VCALENDAR
VERSION:2.0
PRODID:SchoolNow
CALSCALE:GREGORIAN
BEGIN:VEVENT
UID:4f2cac4e-5ee5-11ee-a9d2-0a58a9feac02
DTSTAMP:20230929T162906Z
SUMMARY:Ski Club Meeting (virtual event)
URL;VALUE=URI:https://www.albanyschools.org/schools/myers/calendar/4810475/
 ski-club-meeting-virtual-event
DTSTART:20231002T230000Z
DTEND:20231003T000000Z
END:VEVENT
END:VCALENDAR
