BEGIN:VCALENDAR
VERSION:2.0
PRODID:SchoolNow
CALSCALE:GREGORIAN
BEGIN:VEVENT
UID:c2e792ca-6836-11ee-928e-0a58a9feac02
DTSTAMP:20231011T131145Z
SUMMARY:PTSA meeting
URL;VALUE=URI:https://www.albanyschools.org/schools/myers/calendar/4854026/
 ptsa-meeting
DTSTART:20231018T213000Z
DTEND:20231018T223000Z
END:VEVENT
END:VCALENDAR
