BEGIN:VCALENDAR
VERSION:2.0
PRODID:SchoolNow
CALSCALE:GREGORIAN
BEGIN:VEVENT
UID:7494594e-6d06-11ee-b822-0a58a9feac02
DTSTAMP:20231017T160138Z
SUMMARY:Family Literacy Night with Jerry Craft
URL;VALUE=URI:https://www.albanyschools.org/schools/myers/calendar/4873883/
 family-literacy-night-with-jerry-craft
DTSTART:20231024T220000Z
DTEND:20231025T000000Z
END:VEVENT
END:VCALENDAR
