BEGIN:VCALENDAR
VERSION:2.0
PRODID:SchoolNow
CALSCALE:GREGORIAN
BEGIN:VEVENT
UID:fbee2a36-8238-11ee-9146-0a58a9feac02
DTSTAMP:20231113T152615Z
SUMMARY:Early dismissal for Clement and district's three middle schools
URL;VALUE=URI:https://www.albanyschools.org/schools/myers/calendar/4943932/
 early-dismissal-for-clement-and-districts-three-middle-schools
DTSTART:20231115T173000Z
DTEND:20231115T183000Z
END:VEVENT
END:VCALENDAR
