BEGIN:VCALENDAR
VERSION:2.0
PRODID:SchoolNow
CALSCALE:GREGORIAN
BEGIN:VEVENT
UID:3fe5cdb6-8239-11ee-93c5-0a58a9feac02
DTSTAMP:20231113T152809Z
SUMMARY:Early dismissal for Clement and district's three middle schools
URL;VALUE=URI:https://www.albanyschools.org/schools/myers/calendar/4943939/
 early-dismissal-for-clement-and-districts-three-middle-schools-clone
DTSTART:20240117T173000Z
DTEND:20240117T183000Z
END:VEVENT
END:VCALENDAR
