BEGIN:VCALENDAR
VERSION:2.0
PRODID:SchoolNow
CALSCALE:GREGORIAN
BEGIN:VEVENT
UID:90ca81e0-84b9-11ee-a98f-0a7e7dc7076b
DTSTAMP:20231116T195142Z
SUMMARY:Spirit Week
URL;VALUE=URI:https://www.albanyschools.org/schools/myers/calendar/4953034/
 spirit-week
DTSTART:20231218T195100Z
DTEND:20231222T205100Z
END:VEVENT
END:VCALENDAR
