BEGIN:VCALENDAR
VERSION:2.0
PRODID:SchoolNow
CALSCALE:GREGORIAN
BEGIN:VEVENT
UID:a56903c4-84b9-11ee-8374-0a58a9feac02
DTSTAMP:20231116T195217Z
SUMMARY:Quarter 2 interim grades close
URL;VALUE=URI:https://www.albanyschools.org/schools/myers/calendar/4953035/
 quarter-2-interim-grades-close
DTSTART:20231116T195200Z
DTEND:20231116T205200Z
END:VEVENT
END:VCALENDAR
