BEGIN:VCALENDAR
VERSION:2.0
PRODID:SchoolNow
CALSCALE:GREGORIAN
BEGIN:VEVENT
UID:c4d2ef86-84b9-11ee-8f19-0a58a9feac02
DTSTAMP:20231116T195310Z
SUMMARY:Grade 8 visits Albany High School
URL;VALUE=URI:https://www.albanyschools.org/schools/myers/calendar/4953036/
 grade-8-visits-albany-high-school
DTSTART:20231221T133000Z
DTEND:20231221T193000Z
END:VEVENT
END:VCALENDAR
