BEGIN:VCALENDAR
VERSION:2.0
PRODID:SchoolNow
CALSCALE:GREGORIAN
BEGIN:VEVENT
UID:d30c91ec-84b9-11ee-9867-0a58a9feac02
DTSTAMP:20231116T195333Z
SUMMARY:Toys for Tots Holiday Party
URL;VALUE=URI:https://www.albanyschools.org/schools/myers/calendar/4953037/
 toys-for-tots-holiday-party
DTSTART:20231221T195300Z
DTEND:20231221T205300Z
END:VEVENT
END:VCALENDAR
