BEGIN:VCALENDAR
VERSION:2.0
PRODID:SchoolNow
CALSCALE:GREGORIAN
BEGIN:VEVENT
UID:055fd524-9ea9-11ee-9646-0a58a9feac02
DTSTAMP:20231222T182654Z
SUMMARY:Curriculum Fair
LOCATION:Auditorium
URL;VALUE=URI:https://www.albanyschools.org/schools/myers/calendar/5027218/
 curriculum-fair
DTSTART:20240103T220000Z
DTEND:20240104T000000Z
END:VEVENT
END:VCALENDAR
