BEGIN:VCALENDAR
VERSION:2.0
PRODID:SchoolNow
CALSCALE:GREGORIAN
BEGIN:VEVENT
UID:020e7c02-b959-11ee-a897-0a58a9feac02
DTSTAMP:20240205T190405Z
SUMMARY:PTSA Meeting (virtual event)
URL;VALUE=URI:https://www.albanyschools.org/schools/myers/calendar/5193407/
 ptsa-meeting
DTSTART:20240207T223000Z
DTEND:20240207T233000Z
END:VEVENT
END:VCALENDAR
