BEGIN:VCALENDAR
VERSION:2.0
PRODID:SchoolNow
CALSCALE:GREGORIAN
BEGIN:VEVENT
UID:42c046d6-b959-11ee-8aff-0a58a9feac02
DTSTAMP:20240122T190551Z
SUMMARY:PTSA meeting
URL;VALUE=URI:https://www.albanyschools.org/schools/myers/calendar/5193579/
 ptsa-meeting
DTSTART:20240306T223000Z
DTEND:20240306T233000Z
END:VEVENT
END:VCALENDAR
