BEGIN:VCALENDAR
VERSION:2.0
PRODID:SchoolNow
CALSCALE:GREGORIAN
BEGIN:VEVENT
UID:d290d6c0-ba00-11ee-be1f-0a58a9feac02
DTSTAMP:20240311T153308Z
SUMMARY:Autism Spectrum Fair
LOCATION:Montessori Magnet School\,45 Tremont St.
URL;VALUE=URI:https://www.albanyschools.org/schools/myers/calendar/5198473/
 autism-spectrum-fair
DTSTART:20240326T213000Z
DTEND:20240326T230000Z
END:VEVENT
END:VCALENDAR
