BEGIN:VCALENDAR
VERSION:2.0
PRODID:SchoolNow
CALSCALE:GREGORIAN
BEGIN:VEVENT
UID:32b5570e-ba08-11ee-9543-0a58a9feac02
DTSTAMP:20240123T155806Z
SUMMARY:Teen Night
URL;VALUE=URI:https://www.albanyschools.org/schools/myers/calendar/5198500/
 teen-night
DTSTART:20240215T220000Z
DTEND:20240216T000000Z
END:VEVENT
END:VCALENDAR
