BEGIN:VCALENDAR
VERSION:2.0
PRODID:SchoolNow
CALSCALE:GREGORIAN
BEGIN:VEVENT
UID:31eb76a0-bc79-11ee-9ca1-0aac24e4ed8f
DTSTAMP:20240126T183200Z
SUMMARY:Parent-teacher conferences
URL;VALUE=URI:https://www.albanyschools.org/schools/myers/calendar/5212647/
 parent-teacher-conferences
DTSTART:20240208T210000Z
DTEND:20240209T000000Z
END:VEVENT
END:VCALENDAR
