BEGIN:VCALENDAR
VERSION:2.0
PRODID:SchoolNow
CALSCALE:GREGORIAN
BEGIN:VEVENT
UID:6c050952-c460-11ee-adeb-0e7c87a4ba4d
DTSTAMP:20240205T195450Z
SUMMARY:Spirit Week
URL;VALUE=URI:https://www.albanyschools.org/schools/myers/calendar/5268252/
 spirit-week
DTSTART:20240212T195300Z
DTEND:20240216T205300Z
END:VEVENT
END:VCALENDAR
