BEGIN:VCALENDAR
VERSION:2.0
PRODID:SchoolNow
CALSCALE:GREGORIAN
BEGIN:VEVENT
UID:cc514702-c69b-11ee-8799-0a58a9feac02
DTSTAMP:20240208T160454Z
SUMMARY:Science Symposium
URL;VALUE=URI:https://www.albanyschools.org/schools/myers/calendar/5286376/
 science-symposium
DTSTART:20240314T210000Z
DTEND:20240314T220000Z
END:VEVENT
END:VCALENDAR
