BEGIN:VCALENDAR
VERSION:2.0
PRODID:SchoolNow
CALSCALE:GREGORIAN
BEGIN:VEVENT
UID:d9c3b4bc-cce8-11ee-a5c9-0a58a9feac02
DTSTAMP:20240216T163135Z
SUMMARY:Myers Mixer
URL;VALUE=URI:https://www.albanyschools.org/schools/myers/calendar/5341518/
 myers-mixer
DTSTART:20240323T170000Z
DTEND:20240323T190000Z
END:VEVENT
END:VCALENDAR
