BEGIN:VCALENDAR
VERSION:2.0
PRODID:SchoolNow
CALSCALE:GREGORIAN
BEGIN:VEVENT
UID:3a373112-e52a-11ee-8745-0e9dcc52f45d
DTSTAMP:20240422T144958Z
SUMMARY:NYS ELA exam | Grade 6
URL;VALUE=URI:https://www.albanyschools.org/schools/myers/calendar/5572296/
 nys-ela-exam-grade-6
DTSTART:20240425T131600Z
DTEND:20240426T141600Z
END:VEVENT
END:VCALENDAR
