BEGIN:VCALENDAR
VERSION:2.0
PRODID:SchoolNow
CALSCALE:GREGORIAN
BEGIN:VEVENT
UID:2cac3aaa-f5a7-11ee-a68b-025ee24b5243
DTSTAMP:20240408T125445Z
SUMMARY:PTSA meeting
URL;VALUE=URI:https://www.albanyschools.org/schools/myers/calendar/5735857/
 ptsa-meeting
DTSTART:20240411T213000Z
DTEND:20240411T223000Z
END:VEVENT
END:VCALENDAR
