BEGIN:VCALENDAR
VERSION:2.0
PRODID:SchoolNow
CALSCALE:GREGORIAN
BEGIN:VEVENT
UID:a15ee20a-f8d4-11ee-bc4b-0298559d8827
DTSTAMP:20240412T135741Z
SUMMARY:Evening in the Garden
URL;VALUE=URI:https://www.albanyschools.org/schools/myers/calendar/5766571/
 evening-in-the-garden
DTSTART:20240507T213000Z
DTEND:20240507T230000Z
END:VEVENT
END:VCALENDAR
